BEGIN:VCALENDAR
VERSION:2.0
PRODID:SchoolNow
CALSCALE:GREGORIAN
BEGIN:VEVENT
UID:d04b99ba-2eaf-11f1-98bc-02ad3aa6fa2b
DTSTAMP:20260422T224507Z
SUMMARY:PBIS Team Initiated Problem Solving (TIPS II) Training
URL;VALUE=URI:https://www.iu1.org/calendar/8966131/pbis-team-initiated-prob
 lem-solving-tips-ii-training
DTSTART;VALUE=DATE:20261006
DTEND;VALUE=DATE:20261007
END:VEVENT
END:VCALENDAR
