BEGIN:VCALENDAR
VERSION:2.0
PRODID:SchoolNow
CALSCALE:GREGORIAN
BEGIN:VEVENT
UID:d04b98ca-2eaf-11f1-94c8-02ad3aa6fa2b
DTSTAMP:20260422T224507Z
SUMMARY:Online Course: Innovative Teaching with AI: Transforming Education 
 for the 21st Century
URL;VALUE=URI:https://www.iu1.org/calendar/8966130/online-course-innovative
 -teaching-with-ai-transforming-education-for-the-21st-century
DTSTART;VALUE=DATE:20260703
DTEND;VALUE=DATE:20260704
END:VEVENT
END:VCALENDAR
