BEGIN:VCALENDAR
VERSION:2.0
PRODID:SchoolNow
CALSCALE:GREGORIAN
BEGIN:VEVENT
UID:d04b969a-2eaf-11f1-8e15-02ad3aa6fa2b
DTSTAMP:20260422T164007Z
SUMMARY:Online Course: Social Emotional Learning
URL;VALUE=URI:https://www.iu1.org/calendar/8966128/online-course-social-emo
 tional-learning
DTSTART;VALUE=DATE:20260619
DTEND;VALUE=DATE:20260620
END:VEVENT
END:VCALENDAR
