BEGIN:VCALENDAR
VERSION:2.0
PRODID:SchoolNow
CALSCALE:GREGORIAN
BEGIN:VEVENT
UID:d04b956e-2eaf-11f1-8e3c-02ad3aa6fa2b
DTSTAMP:20260422T164007Z
SUMMARY:Online Course: There's An App for that\, Integrating the iPad in th
 e Classroom
URL;VALUE=URI:https://www.iu1.org/calendar/8966127/online-course-theres-an-
 app-for-that-integrating-the-ipad-in-the-classroom
DTSTART;VALUE=DATE:20260626
DTEND;VALUE=DATE:20260627
END:VEVENT
END:VCALENDAR
