BEGIN:VCALENDAR
VERSION:2.0
PRODID:SchoolNow
CALSCALE:GREGORIAN
BEGIN:VEVENT
UID:d04b9456-2eaf-11f1-b6bf-02ad3aa6fa2b
DTSTAMP:20260422T224507Z
SUMMARY:Online Course: How to View Students Through a Trauma-Informed Lens
URL;VALUE=URI:https://www.iu1.org/calendar/8966126/online-course-how-to-vie
 w-students-through-a-trauma-informed-lens
DTSTART;VALUE=DATE:20260710
DTEND;VALUE=DATE:20260711
END:VEVENT
END:VCALENDAR
