BEGIN:VCALENDAR
VERSION:2.0
PRODID:SchoolNow
CALSCALE:GREGORIAN
BEGIN:VEVENT
UID:d04b935c-2eaf-11f1-877e-02ad3aa6fa2b
DTSTAMP:20260422T224507Z
SUMMARY:7 Habits of Highly Effective People Training
URL;VALUE=URI:https://www.iu1.org/calendar/8966125/7-habits-of-highly-effec
 tive-people-training
DTSTART;VALUE=DATE:20260805
DTEND;VALUE=DATE:20260806
END:VEVENT
END:VCALENDAR
