BEGIN:VCALENDAR
VERSION:2.0
PRODID:SchoolNow
CALSCALE:GREGORIAN
BEGIN:VEVENT
UID:d04b924e-2eaf-11f1-a7db-02ad3aa6fa2b
DTSTAMP:20260422T224507Z
SUMMARY:Advanced Tiers Training
URL;VALUE=URI:https://www.iu1.org/calendar/8966124/advanced-tiers-training
DTSTART;VALUE=DATE:20260930
DTEND;VALUE=DATE:20261001
END:VEVENT
END:VCALENDAR
