BEGIN:VCALENDAR
VERSION:2.0
PRODID:SchoolNow
CALSCALE:GREGORIAN
BEGIN:VEVENT
UID:ea4ff528-0d07-11f1-b174-0e9f27f8660d
DTSTAMP:20260422T164007Z
SUMMARY:There's An App for That\, Integrating the iPad in the Classroom
URL;VALUE=URI:https://www.iu1.org/calendar/8859504/theres-an-app-for-that-i
 ntegrating-the-ipad-in-the-classroom
DTSTART;VALUE=DATE:20260313
DTEND;VALUE=DATE:20260314
END:VEVENT
END:VCALENDAR
