BEGIN:VCALENDAR
VERSION:2.0
PRODID:SchoolNow
CALSCALE:GREGORIAN
BEGIN:VEVENT
UID:ea4ff424-0d07-11f1-946a-0e9f27f8660d
DTSTAMP:20260422T164007Z
SUMMARY:IU1 Co-Teaching and Differentiated Instruction
URL;VALUE=URI:https://www.iu1.org/calendar/8859503/iu1-co-teaching-and-diff
 erentiated-instruction
DTSTART;VALUE=DATE:20260326
DTEND;VALUE=DATE:20260327
END:VEVENT
END:VCALENDAR
