BEGIN:VCALENDAR
VERSION:2.0
PRODID:SchoolNow
CALSCALE:GREGORIAN
BEGIN:VEVENT
UID:ea4ff2f8-0d07-11f1-af3a-0e9f27f8660d
DTSTAMP:20260422T164007Z
SUMMARY:STEELS to Skills: Connecting Classrooms to Careers
URL;VALUE=URI:https://www.iu1.org/calendar/8859502/steels-to-skills-connect
 ing-classrooms-to-careers
DTSTART;VALUE=DATE:20260305
DTEND;VALUE=DATE:20260306
END:VEVENT
END:VCALENDAR
