BEGIN:VCALENDAR
VERSION:2.0
PRODID:SchoolNow
CALSCALE:GREGORIAN
BEGIN:VEVENT
UID:ea4ff17c-0d07-11f1-a08e-0e9f27f8660d
DTSTAMP:20260422T164007Z
SUMMARY:Project-Based & Challenge-Based Learning
URL;VALUE=URI:https://www.iu1.org/calendar/8859501/project-based-challenge-
 based-learning
DTSTART;VALUE=DATE:20260227
DTEND;VALUE=DATE:20260228
END:VEVENT
END:VCALENDAR
