BEGIN:VCALENDAR
VERSION:2.0
PRODID:SchoolNow
CALSCALE:GREGORIAN
BEGIN:VEVENT
UID:ea4ff06e-0d07-11f1-b82c-0e9f27f8660d
DTSTAMP:20260422T164007Z
SUMMARY:Health & Physical Education State Training/Updates
URL;VALUE=URI:https://www.iu1.org/calendar/8859500/health-physical-educatio
 n-state-training-updates
DTSTART;VALUE=DATE:20260324
DTEND;VALUE=DATE:20260325
END:VEVENT
END:VCALENDAR
