BEGIN:VCALENDAR
VERSION:2.0
PRODID:SchoolNow
CALSCALE:GREGORIAN
BEGIN:VEVENT
UID:ea4fee5c-0d07-11f1-afdd-0e9f27f8660d
DTSTAMP:20260422T164007Z
SUMMARY:Tech Tools for the 21st Century Classroom
URL;VALUE=URI:https://www.iu1.org/calendar/8859499/tech-tools-for-the-21st-
 century-classroom
DTSTART;VALUE=DATE:20260320
DTEND;VALUE=DATE:20260321
END:VEVENT
END:VCALENDAR
