BEGIN:VCALENDAR
VERSION:2.0
PRODID:SchoolNow
CALSCALE:GREGORIAN
BEGIN:VEVENT
UID:ea4fecd6-0d07-11f1-94c9-0e9f27f8660d
DTSTAMP:20260422T224507Z
SUMMARY:Social Emotional Learning
URL;VALUE=URI:https://www.iu1.org/calendar/8859498/social-emotional-learnin
 g
DTSTART;VALUE=DATE:20260220
DTEND;VALUE=DATE:20260221
END:VEVENT
END:VCALENDAR
