BEGIN:VCALENDAR
VERSION:2.0
PRODID:SchoolNow
CALSCALE:GREGORIAN
BEGIN:VEVENT
UID:ea4feb5a-0d07-11f1-be5d-0e9f27f8660d
DTSTAMP:20260422T164007Z
SUMMARY:LEA Meeting
URL;VALUE=URI:https://www.iu1.org/calendar/8859497/lea-meeting
DTSTART;VALUE=DATE:20260224
DTEND;VALUE=DATE:20260225
END:VEVENT
END:VCALENDAR
