BEGIN:VCALENDAR
VERSION:2.0
PRODID:SchoolNow
CALSCALE:GREGORIAN
BEGIN:VEVENT
UID:ea4fe8e4-0d07-11f1-bc27-0e9f27f8660d
DTSTAMP:20260422T164007Z
SUMMARY:Culturally Responsive Teaching
URL;VALUE=URI:https://www.iu1.org/calendar/8859496/culturally-responsive-te
 aching
DTSTART;VALUE=DATE:20260306
DTEND;VALUE=DATE:20260307
END:VEVENT
END:VCALENDAR
