BEGIN:VCALENDAR
VERSION:2.0
PRODID:SchoolNow
CALSCALE:GREGORIAN
BEGIN:VEVENT
UID:ea4fe4ca-0d07-11f1-aae8-0e9f27f8660d
DTSTAMP:20260422T164007Z
SUMMARY:Bridging ELA to Careers
URL;VALUE=URI:https://www.iu1.org/calendar/8859495/bridging-ela-to-careers
DTSTART;VALUE=DATE:20260409
DTEND;VALUE=DATE:20260410
END:VEVENT
END:VCALENDAR
