BEGIN:VCALENDAR
VERSION:2.0
PRODID:SchoolNow
CALSCALE:GREGORIAN
BEGIN:VEVENT
UID:5b526234-f885-11f0-bc3b-0a58a9feac02
DTSTAMP:20260422T224507Z
SUMMARY:PASCL Statewide Shift to Student-Led Book Study (PA Student Centere
 d Learning)
URL;VALUE=URI:https://www.iu1.org/calendar/8839912/pascl-statewide-shift-to
 -student-led-book-study-pa-student-centered-learning
DTSTART;VALUE=DATE:20260211
DTEND;VALUE=DATE:20260212
END:VEVENT
END:VCALENDAR
