BEGIN:VCALENDAR
VERSION:2.0
PRODID:SchoolNow
CALSCALE:GREGORIAN
BEGIN:VEVENT
UID:9c4ee6b8-ca40-11f0-85e6-0afffc8cd0f9
DTSTAMP:20260422T164007Z
SUMMARY:Supporting ELS of STEELS with Project WILD
URL;VALUE=URI:https://www.iu1.org/calendar/8809778/supporting-els-of-steels
 -with-project-wild
DTSTART;VALUE=DATE:20260325
DTEND;VALUE=DATE:20260326
END:VEVENT
END:VCALENDAR
