BEGIN:VCALENDAR
VERSION:2.0
PRODID:SchoolNow
CALSCALE:GREGORIAN
BEGIN:VEVENT
UID:9c4ee23a-ca40-11f0-a15c-0afffc8cd0f9
DTSTAMP:20260422T224507Z
SUMMARY:From Kits to Classrooms: An Introductory Look at OpenSciEd
URL;VALUE=URI:https://www.iu1.org/calendar/8809774/from-kits-to-classrooms-
 an-introductory-look-at-openscied
DTSTART;VALUE=DATE:20260206
DTEND;VALUE=DATE:20260207
END:VEVENT
END:VCALENDAR
