BEGIN:VCALENDAR
VERSION:2.0
PRODID:SchoolNow
CALSCALE:GREGORIAN
BEGIN:VEVENT
UID:9c4ede66-ca40-11f0-9f0e-0afffc8cd0f9
DTSTAMP:20260422T224507Z
SUMMARY:LEA Meeting
URL;VALUE=URI:https://www.iu1.org/calendar/8809771/lea-meeting
DTSTART;VALUE=DATE:20260130
DTEND;VALUE=DATE:20260131
END:VEVENT
END:VCALENDAR
