BEGIN:VCALENDAR
VERSION:2.0
PRODID:SchoolNow
CALSCALE:GREGORIAN
BEGIN:VEVENT
UID:9c4edd1c-ca40-11f0-8173-0afffc8cd0f9
DTSTAMP:20260422T224507Z
SUMMARY:District School Counselors' Meeting
URL;VALUE=URI:https://www.iu1.org/calendar/8809770/district-school-counselo
 rs-meeting
DTSTART;VALUE=DATE:20260120
DTEND;VALUE=DATE:20260121
END:VEVENT
END:VCALENDAR
