BEGIN:VCALENDAR
VERSION:2.0
PRODID:SchoolNow
CALSCALE:GREGORIAN
BEGIN:VEVENT
UID:9c4edc04-ca40-11f0-95f3-0afffc8cd0f9
DTSTAMP:20260422T224507Z
SUMMARY:Curriculum Coordinators' Meeting
URL;VALUE=URI:https://www.iu1.org/calendar/8809769/curriculum-coordinators-
 meeting
DTSTART;VALUE=DATE:20260121
DTEND;VALUE=DATE:20260122
END:VEVENT
END:VCALENDAR
