BEGIN:VCALENDAR
VERSION:2.0
PRODID:SchoolNow
CALSCALE:GREGORIAN
BEGIN:VEVENT
UID:9c4edaba-ca40-11f0-8604-0afffc8cd0f9
DTSTAMP:20260422T224507Z
SUMMARY:District Principals' Meeting
URL;VALUE=URI:https://www.iu1.org/calendar/8809768/district-principals-meet
 ing
DTSTART;VALUE=DATE:20260122
DTEND;VALUE=DATE:20260123
END:VEVENT
END:VCALENDAR
