BEGIN:VCALENDAR
VERSION:2.0
PRODID:SchoolNow
CALSCALE:GREGORIAN
BEGIN:VEVENT
UID:e6a74aac-b424-11f0-b7d5-0a58a9feac02
DTSTAMP:20260422T224507Z
SUMMARY:Gifted Bootcamp
URL;VALUE=URI:https://www.iu1.org/calendar/8757202/gifted-bootcamp
DTSTART;VALUE=DATE:20260127
DTEND;VALUE=DATE:20260128
END:VEVENT
END:VCALENDAR
