BEGIN:VCALENDAR
VERSION:2.0
PRODID:SchoolNow
CALSCALE:GREGORIAN
BEGIN:VEVENT
UID:e6a749d0-b424-11f0-85a0-0a58a9feac02
DTSTAMP:20260422T164007Z
SUMMARY:Classrooms Without Borders: When Democracies Falter: Jim Crow\, Naz
 i Germany\, and the Educator’s Call
URL;VALUE=URI:https://www.iu1.org/calendar/8757201/classrooms-without-borde
 rs-when-democracies-falter-jim-crow-nazi-germany-and-the-educator-s-call
DTSTART;VALUE=DATE:20260417
DTEND;VALUE=DATE:20260418
END:VEVENT
END:VCALENDAR
