BEGIN:VCALENDAR
VERSION:2.0
PRODID:SchoolNow
CALSCALE:GREGORIAN
BEGIN:VEVENT
UID:e6a748fe-b424-11f0-aa9a-0a58a9feac02
DTSTAMP:20260422T164007Z
SUMMARY:Classrooms Without Borders: From Hate to Hope\; The Journey of Tony
  McAleer and the Cure for Hate
URL;VALUE=URI:https://www.iu1.org/calendar/8757200/classrooms-without-borde
 rs-from-hate-to-hope-the-journey-of-tony-mcaleer-and-the-cure-for-hate
DTSTART;VALUE=DATE:20260316
DTEND;VALUE=DATE:20260317
END:VEVENT
END:VCALENDAR
