BEGIN:VCALENDAR
VERSION:2.0
PRODID:SchoolNow
CALSCALE:GREGORIAN
BEGIN:VEVENT
UID:e6a74822-b424-11f0-a63d-0a58a9feac02
DTSTAMP:20260422T164007Z
SUMMARY:Classrooms Without Borders: Brave Spaces: Fostering Civil Discourse
  in the Classroom
URL;VALUE=URI:https://www.iu1.org/calendar/8757199/classrooms-without-borde
 rs-brave-spaces-fostering-civil-discourse-in-the-classroom
DTSTART;VALUE=DATE:20260220
DTEND;VALUE=DATE:20260221
END:VEVENT
END:VCALENDAR
