BEGIN:VCALENDAR
VERSION:2.0
PRODID:SchoolNow
CALSCALE:GREGORIAN
BEGIN:VEVENT
UID:e6a74746-b424-11f0-97fb-0a58a9feac02
DTSTAMP:20260422T164007Z
SUMMARY:Classrooms Without Borders: Memory and Meaning: Teaching the Holoca
 ust in Today’s Classroom
URL;VALUE=URI:https://www.iu1.org/calendar/8757198/classrooms-without-borde
 rs-memory-and-meaning-teaching-the-holocaust-in-today-s-classroom
DTSTART;VALUE=DATE:20260518
DTEND;VALUE=DATE:20260519
END:VEVENT
END:VCALENDAR
