BEGIN:VCALENDAR
VERSION:2.0
PRODID:SchoolNow
CALSCALE:GREGORIAN
BEGIN:VEVENT
UID:e6a7466a-b424-11f0-9b5c-0a58a9feac02
DTSTAMP:20260422T224507Z
SUMMARY:TDA Roll Out
URL;VALUE=URI:https://www.iu1.org/calendar/8757197/tda-roll-out
DTSTART;VALUE=DATE:20260112
DTEND;VALUE=DATE:20260113
END:VEVENT
END:VCALENDAR
